BEGIN:VCALENDAR
VERSION:2.0
PRODID:-//Pollinate Impact - ECPv6.15.17.1//NONSGML v1.0//EN
CALSCALE:GREGORIAN
METHOD:PUBLISH
X-WR-CALNAME:Pollinate Impact
X-ORIGINAL-URL:https://www.pollinateimpact.org
X-WR-CALDESC:Events for Pollinate Impact
REFRESH-INTERVAL;VALUE=DURATION:PT1H
X-Robots-Tag:noindex
X-PUBLISHED-TTL:PT1H
BEGIN:VTIMEZONE
TZID:UTC
BEGIN:STANDARD
TZOFFSETFROM:+0000
TZOFFSETTO:+0000
TZNAME:UTC
DTSTART:20250101T000000
END:STANDARD
END:VTIMEZONE
BEGIN:VEVENT
DTSTART;TZID=UTC:20260122T090000
DTEND;TZID=UTC:20260122T100000
DTSTAMP:20260422T045801
CREATED:20260118T041125Z
LAST-MODIFIED:20260119T135828Z
UID:10000005-1769072400-1769076000@www.pollinateimpact.org
SUMMARY:Member Kickoff & Connections 🎉
DESCRIPTION:Members – Come join us as we start the year together!\nAs we step into a new year\, we’re creating space to do something simple and important. \nPollinate Pulse: Kickoff & Connections is our start-of-the-year member gathering: a relaxed\, energising moment to reconnect across the network\, meet new faces\, and get a shared sense of what’s taking shape in the year ahead. \nThis is not a formal presentation or a webinar. It’s a warm\, interactive space designed to bring members together — to reflect\, exchange\, and begin the year grounded in community and collective direction. \nWhy this gathering matters\nThe work of impact incubation doesn’t happen in isolation. It’s shaped by shared questions\, emerging priorities\, and the people doing the work every day. \nAt Pollinate Pulse\, we’ll: \n\nCreate space for members to share what they’re excited about\, curious about\, or grappling with as the year begins\nSurface themes and signals emerging across the network\nOffer a clear\, high-level snapshot of Pollinate Impact’s focus for the year ahead\, grounded in what members are already surfacing\nStrengthen connections across roles\, organisations\, and geographies\n\nYou’ll leave feeling more connected\, energised\, and oriented to what’s coming — and how you might want to engage this year. \nWho this space is for\nThis gathering is for everyone across Pollinate Impact member organisations: \n\nNew team members looking to get oriented\nPractitioners deep in the day-to-day work\nLeaders and CXOs wanting a clear view of what’s ahead\n\nIf you’re part of a Pollinate Impact member organisation and want to start the year connected to the Network\, this space is for you. \nWhat to expect\n\n🌟Light\, interactive prompts to spark conversation and reflection\n🖧 Time to reconnect and meet others across the network\n🗫A short\, accessible strategy snapshot — conversational\, not formal\n🤗A welcoming\, low-pressure environment where your voice matters\n\nCome as you are. Join for the full hour or as your schedule allows. \nStart the year with the Network!\nWe’d love to see you there.
URL:https://www.pollinateimpact.org/event/kickoff-connections-%f0%9f%8e%89/
CATEGORIES:Pollinate Pulse
ATTACH;FMTTYPE=image/png:https://www.pollinateimpact.org/wp-content/uploads/2026/01/pollinate-pulse-kickoff-connections.png
LOCATION:
END:VEVENT
END:VCALENDAR