BEGIN:VCALENDAR
VERSION:2.0
PRODID:-//Pollinate Impact - ECPv6.15.17.1//NONSGML v1.0//EN
CALSCALE:GREGORIAN
METHOD:PUBLISH
X-ORIGINAL-URL:https://www.pollinateimpact.org
X-WR-CALDESC:Events for Pollinate Impact
REFRESH-INTERVAL;VALUE=DURATION:PT1H
X-Robots-Tag:noindex
X-PUBLISHED-TTL:PT1H
BEGIN:VTIMEZONE
TZID:UTC
BEGIN:STANDARD
TZOFFSETFROM:+0000
TZOFFSETTO:+0000
TZNAME:UTC
DTSTART:20250101T000000
END:STANDARD
END:VTIMEZONE
BEGIN:VEVENT
DTSTART;TZID=UTC:20260318T100000
DTEND;TZID=UTC:20260318T110000
DTSTAMP:20260422T061433
CREATED:20260207T123058Z
LAST-MODIFIED:20260304T095753Z
UID:10000010-1773828000-1773831600@www.pollinateimpact.org
SUMMARY:Smarter Screening and Selection of Entrepreneurs into your Programme
DESCRIPTION:How much time\, energy\, and coffee does your team really pour into screening? It’s the behind-the-scenes story of selection that rarely gets told — and as application volumes grow\, it quietly pulls resources away from deeper programme design and founder support: the work that actually moves the needle. \nSound familiar? You’re not alone. And we think there’s a better way forward together. \n \nHere’s how it works: \nThe Build Table is a series of exploratory sessions where Pollinate Impact members dive deep into shared challenges. Each session presents a research-informed snapshot of a concrete problem emerging across regions and contexts — highlighting insights\, trends\, and potential directions for solutions. Sessions serve as the starting point for forming a Collective Action Team (CAT) of members committed to co-designing\, testing\, and piloting solutions together. \nWhat This First Session Is About \nOur partner Impact Intelligence has developed a beta AI-supported screening tool\, informed by the participation of 20 member organisations — putting real data behind the anecdotal evidence surfaced across the network. The aim is not to automate decision-making\, but to explore how AI\, when trained responsibly using real incubator inputs\, could help surface signal from noise\, reduce manual effort\, and support human judgment. \nWe’ll share: \n\nA snapshot of what the network is seeing\, where screening bottlenecks emerge\, where processes break down\, and why this work is best taken forward together.\nEarly thinking on an AI-supported screening concept is being explored with our partner\, Impact Intelligence.\n\nThis work does not aim to replace human judgment or automate difficult decisions.  \nInstead\, we’re exploring how responsibly designed support tools informed by incubator inputs might help surface signal from noise\, reduce manual burden\, and strengthen decision-making while keeping practitioners firmly in control. \nWhat You’ll Walk Away With \nBy the end of this session\, you’ll have clarity on: \n\nUnderstand the key screening bottlenecks surfaced through Pollinate Impact’s early research — from common pain points to where processes break under scale\nGain clarity on why this is being taken forward as a CAT — not a one-off tool or webinar — and why collective action is the right approach for this challenge\nAssess whether the problem resonates with your own screening reality and how your insights\, processes\, or data could help shape the solution. Leave with a concrete pathway to join the CAT cohort and help co-design what effective\, ethical screening could look like in practice\n\nWe’ll close with an invitation to join the CAT cohort\, a group of Pollinate Impact members committed to co-designing\, testing\, and learning together as this work evolves. \nWe’ve done the listening. Now it’s time to build. 🍽️ \nAbout The Build Table \nThe Build Table is where Pollinate Impact members move from shared challenges to shared solutions. Each session introduces a concrete issue emerging across regions and contexts\, and invites members to join a Collective Action Team (CAT) to co-design\, test\, and build something practical together. \nThis is not a webinar series. It is a space for collective work.
URL:https://www.pollinateimpact.org/event/ai-supported-screening/
LOCATION:Zoom (link will be emailed to participants)
CATEGORIES:The Build Table
ATTACH;FMTTYPE=image/png:https://www.pollinateimpact.org/wp-content/uploads/2026/02/March-18-The-Build-Table-.png
END:VEVENT
END:VCALENDAR