BEGIN:VCALENDAR
VERSION:2.0
PRODID:-//Pollinate Impact - ECPv6.15.17.1//NONSGML v1.0//EN
CALSCALE:GREGORIAN
METHOD:PUBLISH
X-ORIGINAL-URL:https://www.pollinateimpact.org
X-WR-CALDESC:Events for Pollinate Impact
REFRESH-INTERVAL;VALUE=DURATION:PT1H
X-Robots-Tag:noindex
X-PUBLISHED-TTL:PT1H
BEGIN:VTIMEZONE
TZID:UTC
BEGIN:STANDARD
TZOFFSETFROM:+0000
TZOFFSETTO:+0000
TZNAME:UTC
DTSTART:20250101T000000
END:STANDARD
END:VTIMEZONE
BEGIN:VEVENT
DTSTART;TZID=UTC:20260401T083000
DTEND;TZID=UTC:20260401T093000
DTSTAMP:20260422T040836
CREATED:20260211T181747Z
LAST-MODIFIED:20260211T181811Z
UID:10000012-1775032200-1775035800@www.pollinateimpact.org
SUMMARY:Member Orientation 2026
DESCRIPTION:Member Orientation is designed to help you find your footing within the Pollinate Impact network. It’s a shared space for members to connect\, understand how the network functions\, and explore the tools\, opportunities\, and convenings available to support your work. The session offers practical guidance on how to engage meaningfully and make the most of being part of Pollinate. Our Community Choreographer\, Ruod Ariete\, and Membership Mobilizer\, Sophia Morita\, will guide you through all that’s available to you as a member of our Network\, including fundraising resources\, tools\, and upcoming opportunities. During the session\, you’ll explore: \n\nOur Tool Library – Curated resources to help impact incubators run smarter\, scale bigger\, and better support their entrepreneurs.\nFundraising Opportunities – Including our curated grants and opportunities emailer\, plus Fundraising Office Hours.\nConvenings – Updates on learning spaces and member-only sessions with funders and ecosystem leaders.\n\nYou’ll also get a snapshot of what’s unfolding across the Network\, including: \n\nUpcoming Collaborative Action Teams (CATs)\nResearch Projects & Communities of Practice \n\nThe session also creates space to connect with fellow members navigating similar challenges and opportunities across the Global South. Join us to get oriented\, understand what’s available\, and begin engaging with the network in ways that matter most to your work.
URL:https://www.pollinateimpact.org/event/member-orientation-apr/
LOCATION:Zoom (link will be emailed to participants)
CATEGORIES:Member Orientation
ATTACH;FMTTYPE=image/png:https://www.pollinateimpact.org/wp-content/uploads/2026/01/Feb-member-orientation.png
END:VEVENT
END:VCALENDAR