BEGIN:VCALENDAR
VERSION:2.0
PRODID:-//Pollinate Impact - ECPv6.15.17.1//NONSGML v1.0//EN
CALSCALE:GREGORIAN
METHOD:PUBLISH
X-ORIGINAL-URL:https://www.pollinateimpact.org
X-WR-CALDESC:Events for Pollinate Impact
REFRESH-INTERVAL;VALUE=DURATION:PT1H
X-Robots-Tag:noindex
X-PUBLISHED-TTL:PT1H
BEGIN:VTIMEZONE
TZID:UTC
BEGIN:STANDARD
TZOFFSETFROM:+0000
TZOFFSETTO:+0000
TZNAME:UTC
DTSTART:20250101T000000
END:STANDARD
END:VTIMEZONE
BEGIN:VEVENT
DTSTART;TZID=UTC:20260428T110000
DTEND;TZID=UTC:20260428T120000
DTSTAMP:20260422T003559
CREATED:20260320T043517Z
LAST-MODIFIED:20260414T101141Z
UID:10000080-1777374000-1777377600@www.pollinateimpact.org
SUMMARY:Catalyst Circle: Our Peer Mentoring Programme with The Human Edge
DESCRIPTION:Leadership in the incubation ecosystem can be deeply rewarding\, but it can also feel isolating. Across the Pollinate Impact network and beyond\, many leaders are navigating similar questions — how to support entrepreneurs more effectively\, how to grow their organisations sustainably\, and how to sustain themselves while doing this work. \nWhat if some of the most valuable support came from peers walking similar paths? \nCatalyst Circle introduces a new opportunity for leaders across the ecosystem to connect through peer mentoring. In partnership with The Human Edge\, this session offers a first look at the Catalyst Circle — a peer learning and mentoring programme designed to support leaders working in impact incubation and entrepreneurship ecosystems. \nRather than a traditional training programme\, Catalyst Circle is built around structured reflection\, shared experience\, and honest conversations with peers facing similar challenges. During this 60-minute session\, participants will gain an understanding of how peer mentoring can support both personal and organisational growth. \nYou will then hear directly from past participants from regions including Africa\, Southeast Asia\, and South Asia. They will share what motivated them to join\, the key insights they gained\, and what the live practice sessions were like. They will also reflect on how interacting with peers from different regions shaped their leadership. \nTogether\, we’ll explore questions such as: \n* What makes peer mentoring different from traditional professional development programmes?\n* How can structured peer learning strengthen leadership and collaboration across the ecosystem?\n* What does participation in the Catalyst Circle look like in practice? \nWe’ll also introduce the structure of the programme\, expectations around participation\, and key timelines for the upcoming cohort. The session will include space for live questions and open conversation\, giving participants a chance to explore whether the programme is the right fit for them. \nWhether you’re already part of the Pollinate Impact community or simply curious about connecting with peers across the ecosystem\, this session offers a welcoming introduction to the Catalyst Circle and the community around it.
URL:https://www.pollinateimpact.org/event/catalyst-circle-information-session/
CATEGORIES:Catalyst Circle
ATTACH;FMTTYPE=image/png:https://www.pollinateimpact.org/wp-content/uploads/2026/03/April-28th-catalyst-circle-info-session-banner.png
END:VEVENT
END:VCALENDAR