BEGIN:VCALENDAR
VERSION:2.0
PRODID:-//Pollinate Impact - ECPv6.15.17.1//NONSGML v1.0//EN
CALSCALE:GREGORIAN
METHOD:PUBLISH
X-WR-CALNAME:Pollinate Impact
X-ORIGINAL-URL:https://www.pollinateimpact.org
X-WR-CALDESC:Events for Pollinate Impact
REFRESH-INTERVAL;VALUE=DURATION:PT1H
X-Robots-Tag:noindex
X-PUBLISHED-TTL:PT1H
BEGIN:VTIMEZONE
TZID:UTC
BEGIN:STANDARD
TZOFFSETFROM:+0000
TZOFFSETTO:+0000
TZNAME:UTC
DTSTART:20250101T000000
END:STANDARD
END:VTIMEZONE
BEGIN:VEVENT
DTSTART;TZID=UTC:20260430T110000
DTEND;TZID=UTC:20260430T123000
DTSTAMP:20260422T035823
CREATED:20260408T020853Z
LAST-MODIFIED:20260408T020908Z
UID:10000084-1777546800-1777552200@www.pollinateimpact.org
SUMMARY:In Full Bloom:The Catalyst Circle Graduation
DESCRIPTION:The Catalyst Circle Graduation marks the completion of the first peer mentoring cohort\, creating space for participants to reflect on their learning\, celebrate shared milestones\, and recognise the contributions of both mentors and mentees. The session will highlight stories of growth\, acknowledge achievements\, and strengthen connections across the Catalyst Circle community. It also introduces opportunities for continued engagement\, inviting participants to stay connected and shape the emerging alumni network beyond the programme.
URL:https://www.pollinateimpact.org/event/catalyst-circle-graduation/
CATEGORIES:Catalyst Circle
ATTACH;FMTTYPE=image/png:https://www.pollinateimpact.org/wp-content/uploads/2026/04/April-30-catalyst-circle-graduation.png
END:VEVENT
END:VCALENDAR