BEGIN:VCALENDAR
VERSION:2.0
PRODID:-//Pollinate Impact - ECPv6.15.17.1//NONSGML v1.0//EN
CALSCALE:GREGORIAN
METHOD:PUBLISH
X-ORIGINAL-URL:https://www.pollinateimpact.org
X-WR-CALDESC:Events for Pollinate Impact
REFRESH-INTERVAL;VALUE=DURATION:PT1H
X-Robots-Tag:noindex
X-PUBLISHED-TTL:PT1H
BEGIN:VTIMEZONE
TZID:UTC
BEGIN:STANDARD
TZOFFSETFROM:+0000
TZOFFSETTO:+0000
TZNAME:UTC
DTSTART:20250101T000000
END:STANDARD
END:VTIMEZONE
BEGIN:VEVENT
DTSTART;TZID=UTC:20260506T120000
DTEND;TZID=UTC:20260506T133000
DTSTAMP:20260422T054812
CREATED:20260319T034615Z
LAST-MODIFIED:20260320T045327Z
UID:10000078-1778068800-1778074200@www.pollinateimpact.org
SUMMARY:Growth Check Labs: Solving for Growth Hurdles
DESCRIPTION:Running an incubator or accelerator means constantly balancing multiple priorities – supporting founders\, building partnerships\, managing teams\, raising funds\, and strengthening internal systems. In the middle of all this activity\, it can be difficult to step back and ask a simple but important question: \nAre we focusing on the right things to help our organisation grow stronger? \nGrowth Check Labs is designed to create space for that reflection. \nIn this interactive session\, Pollinate Impact introduces a practical diagnostic tool from the Growth Guidance Program (GGP) – a structured framework that helps incubators and accelerators examine how their organisations are functioning and identify the areas that may need attention to grow more effectively.    \nRather than a presentation or lecture\, this session is designed as a hands-on experience. Participants will be guided through a diagnostic exercise that explores different dimensions of organisational growth – from leadership and governance to talent\, systems\, culture\, and financial sustainability. \nDuring the session\, participants will: \n\nUse a structured diagnostic tool to assess the current state of their organisation\nReflect on areas where their organisation is already strong\nIdentify one or two priority areas that may require deeper focus moving forward\n\n\nTo make the process more tangible\, the session will also feature a live Growth Guidance walkthrough with Paul Basil\, Special Advisor at Pollinate Impact and one of the program’s coaches. A participant will join Paul for a short guided conversation\, offering everyone in the room a real example of how structured reflection can surface insights and practical next steps. \nThe diagnostic tool completed during the session is yours to keep – something you can take back to your team and use as a starting point for deeper conversations about your organisation’s direction. \nIf you’ve ever found yourself asking: \n\nAre we focusing on the right priorities as an organisation?\nWhat might be holding our incubator back from growing stronger?\nWhere should we invest our limited time and energy?\n\n\nThis session offers a practical place to begin. \nWhether you’re already part of the Pollinate Impact community or simply curious about how structured reflection can strengthen incubators and accelerators\, Growth Check Labs is open to anyone supporting entrepreneurs and ecosystem development.
URL:https://www.pollinateimpact.org/event/growth-check-labs-solving-for-growth-hurdles/
CATEGORIES:Growth Guidance
ATTACH;FMTTYPE=image/png:https://www.pollinateimpact.org/wp-content/uploads/2026/03/April-23rd-growth-check-labs.png
END:VEVENT
BEGIN:VEVENT
DTSTART;TZID=UTC:20260519T150000
DTEND;TZID=UTC:20260519T163000
DTSTAMP:20260422T054812
CREATED:20260317T180918Z
LAST-MODIFIED:20260318T172833Z
UID:10000018-1779202800-1779208200@www.pollinateimpact.org
SUMMARY:Pollinate Impact SG/Board Monthly Meeting
DESCRIPTION:
URL:https://www.pollinateimpact.org/event/sg-board-meeting/2026-05-19/
CATEGORIES:Board Meeting
ATTACH;FMTTYPE=image/png:https://www.pollinateimpact.org/wp-content/uploads/2026/03/Recurring.png
LOCATION:
END:VEVENT
BEGIN:VEVENT
DTSTART;TZID=UTC:20260603T083000
DTEND;TZID=UTC:20260603T093000
DTSTAMP:20260422T054812
CREATED:20260407T044806Z
LAST-MODIFIED:20260407T044806Z
UID:10000082-1780475400-1780479000@www.pollinateimpact.org
SUMMARY:Member Orientation 2026
DESCRIPTION:Member Orientation is designed to help you find your footing within the Pollinate Impact network. It’s a shared space for members to connect\, understand how the network functions\, and explore the tools\, opportunities\, and convenings available to support your work. The session offers practical guidance on how to engage meaningfully and make the most of being part of Pollinate. Our Community Choreographer\, Ruod Ariete\, and Membership Mobilizer\, Sophia Morita\, will guide you through all that’s available to you as a member of our Network\, including fundraising resources\, tools\, and upcoming opportunities. During the session\, you’ll explore: \n\nOur Tool Library – Curated resources to help impact incubators run smarter\, scale bigger\, and better support their entrepreneurs.\nFundraising Opportunities – Including our curated grants and opportunities emailer\, plus Fundraising Office Hours.\nConvenings – Updates on learning spaces and member-only sessions with funders and ecosystem leaders.\n\nThe session also creates space to connect with fellow members navigating similar challenges and opportunities across the Global South. Join us to get oriented\, understand what’s available\, and begin engaging with the network in ways that matter most to your work.
URL:https://www.pollinateimpact.org/event/member-orientation-2026-jun/
LOCATION:Zoom (link will be emailed to participants)
CATEGORIES:Member Orientation
ATTACH;FMTTYPE=image/png:https://www.pollinateimpact.org/wp-content/uploads/2026/01/Feb-member-orientation.png
END:VEVENT
BEGIN:VEVENT
DTSTART;TZID=UTC:20260616T150000
DTEND;TZID=UTC:20260616T163000
DTSTAMP:20260422T054812
CREATED:20260317T180918Z
LAST-MODIFIED:20260318T172833Z
UID:10000019-1781622000-1781627400@www.pollinateimpact.org
SUMMARY:Pollinate Impact SG/Board Monthly Meeting
DESCRIPTION:
URL:https://www.pollinateimpact.org/event/sg-board-meeting/2026-06-16/
CATEGORIES:Board Meeting
ATTACH;FMTTYPE=image/png:https://www.pollinateimpact.org/wp-content/uploads/2026/03/Recurring.png
LOCATION:
END:VEVENT
BEGIN:VEVENT
DTSTART;TZID=UTC:20260721T150000
DTEND;TZID=UTC:20260721T163000
DTSTAMP:20260422T054812
CREATED:20260317T180918Z
LAST-MODIFIED:20260318T172833Z
UID:10000020-1784646000-1784651400@www.pollinateimpact.org
SUMMARY:Pollinate Impact SG/Board Monthly Meeting
DESCRIPTION:
URL:https://www.pollinateimpact.org/event/sg-board-meeting/2026-07-21/
CATEGORIES:Board Meeting
ATTACH;FMTTYPE=image/png:https://www.pollinateimpact.org/wp-content/uploads/2026/03/Recurring.png
LOCATION:
END:VEVENT
BEGIN:VEVENT
DTSTART;TZID=UTC:20260818T150000
DTEND;TZID=UTC:20260818T163000
DTSTAMP:20260422T054812
CREATED:20260317T180918Z
LAST-MODIFIED:20260318T172833Z
UID:10000021-1787065200-1787070600@www.pollinateimpact.org
SUMMARY:Pollinate Impact SG/Board Monthly Meeting
DESCRIPTION:
URL:https://www.pollinateimpact.org/event/sg-board-meeting/2026-08-18/
CATEGORIES:Board Meeting
ATTACH;FMTTYPE=image/png:https://www.pollinateimpact.org/wp-content/uploads/2026/03/Recurring.png
LOCATION:
END:VEVENT
BEGIN:VEVENT
DTSTART;TZID=UTC:20260915T150000
DTEND;TZID=UTC:20260915T163000
DTSTAMP:20260422T054812
CREATED:20260317T180918Z
LAST-MODIFIED:20260318T172833Z
UID:10000022-1789484400-1789489800@www.pollinateimpact.org
SUMMARY:Pollinate Impact SG/Board Monthly Meeting
DESCRIPTION:
URL:https://www.pollinateimpact.org/event/sg-board-meeting/2026-09-15/
CATEGORIES:Board Meeting
ATTACH;FMTTYPE=image/png:https://www.pollinateimpact.org/wp-content/uploads/2026/03/Recurring.png
LOCATION:
END:VEVENT
BEGIN:VEVENT
DTSTART;VALUE=DATE:20261006
DTEND;VALUE=DATE:20261009
DTSTAMP:20260422T054812
CREATED:20260403T003038Z
LAST-MODIFIED:20260409T114803Z
UID:10000081-1791244800-1791503999@www.pollinateimpact.org
SUMMARY:Global Pollinate PotLuck
DESCRIPTION:
URL:https://www.pollinateimpact.org/event/global-potluck/
LOCATION:Manila\, Philippines\, Manila\, Philippines
CATEGORIES:Pollinate Potluck
ATTACH;FMTTYPE=image/jpeg:https://www.pollinateimpact.org/wp-content/uploads/2026/04/pollinate-potluck-2026-logo-600.jpg
END:VEVENT
BEGIN:VEVENT
DTSTART;TZID=UTC:20261020T150000
DTEND;TZID=UTC:20261020T163000
DTSTAMP:20260422T054812
CREATED:20260317T180918Z
LAST-MODIFIED:20260318T172833Z
UID:10000023-1792508400-1792513800@www.pollinateimpact.org
SUMMARY:Pollinate Impact SG/Board Monthly Meeting
DESCRIPTION:
URL:https://www.pollinateimpact.org/event/sg-board-meeting/2026-10-20/
CATEGORIES:Board Meeting
ATTACH;FMTTYPE=image/png:https://www.pollinateimpact.org/wp-content/uploads/2026/03/Recurring.png
LOCATION:
END:VEVENT
BEGIN:VEVENT
DTSTART;TZID=UTC:20261117T150000
DTEND;TZID=UTC:20261117T163000
DTSTAMP:20260422T054812
CREATED:20260317T180918Z
LAST-MODIFIED:20260318T172833Z
UID:10000024-1794927600-1794933000@www.pollinateimpact.org
SUMMARY:Pollinate Impact SG/Board Monthly Meeting
DESCRIPTION:
URL:https://www.pollinateimpact.org/event/sg-board-meeting/2026-11-17/
CATEGORIES:Board Meeting
ATTACH;FMTTYPE=image/png:https://www.pollinateimpact.org/wp-content/uploads/2026/03/Recurring.png
LOCATION:
END:VEVENT
BEGIN:VEVENT
DTSTART;TZID=UTC:20261215T150000
DTEND;TZID=UTC:20261215T163000
DTSTAMP:20260422T054812
CREATED:20260317T180918Z
LAST-MODIFIED:20260318T172833Z
UID:10000025-1797346800-1797352200@www.pollinateimpact.org
SUMMARY:Pollinate Impact SG/Board Monthly Meeting
DESCRIPTION:
URL:https://www.pollinateimpact.org/event/sg-board-meeting/2026-12-15/
CATEGORIES:Board Meeting
ATTACH;FMTTYPE=image/png:https://www.pollinateimpact.org/wp-content/uploads/2026/03/Recurring.png
LOCATION:
END:VEVENT
BEGIN:VEVENT
DTSTART;TZID=UTC:20270119T150000
DTEND;TZID=UTC:20270119T163000
DTSTAMP:20260422T054812
CREATED:20260317T180918Z
LAST-MODIFIED:20260318T172833Z
UID:10000026-1800370800-1800376200@www.pollinateimpact.org
SUMMARY:Pollinate Impact SG/Board Monthly Meeting
DESCRIPTION:
URL:https://www.pollinateimpact.org/event/sg-board-meeting/2027-01-19/
CATEGORIES:Board Meeting
ATTACH;FMTTYPE=image/png:https://www.pollinateimpact.org/wp-content/uploads/2026/03/Recurring.png
LOCATION:
END:VEVENT
BEGIN:VEVENT
DTSTART;TZID=UTC:20270216T150000
DTEND;TZID=UTC:20270216T163000
DTSTAMP:20260422T054812
CREATED:20260317T180918Z
LAST-MODIFIED:20260318T172833Z
UID:10000027-1802790000-1802795400@www.pollinateimpact.org
SUMMARY:Pollinate Impact SG/Board Monthly Meeting
DESCRIPTION:
URL:https://www.pollinateimpact.org/event/sg-board-meeting/2027-02-16/
CATEGORIES:Board Meeting
ATTACH;FMTTYPE=image/png:https://www.pollinateimpact.org/wp-content/uploads/2026/03/Recurring.png
LOCATION:
END:VEVENT
BEGIN:VEVENT
DTSTART;TZID=UTC:20270316T150000
DTEND;TZID=UTC:20270316T163000
DTSTAMP:20260422T054812
CREATED:20260317T180918Z
LAST-MODIFIED:20260318T172833Z
UID:10000028-1805209200-1805214600@www.pollinateimpact.org
SUMMARY:Pollinate Impact SG/Board Monthly Meeting
DESCRIPTION:
URL:https://www.pollinateimpact.org/event/sg-board-meeting/2027-03-16/
CATEGORIES:Board Meeting
ATTACH;FMTTYPE=image/png:https://www.pollinateimpact.org/wp-content/uploads/2026/03/Recurring.png
LOCATION:
END:VEVENT
BEGIN:VEVENT
DTSTART;TZID=UTC:20270420T150000
DTEND;TZID=UTC:20270420T163000
DTSTAMP:20260422T054812
CREATED:20260317T180918Z
LAST-MODIFIED:20260318T172833Z
UID:10000029-1808233200-1808238600@www.pollinateimpact.org
SUMMARY:Pollinate Impact SG/Board Monthly Meeting
DESCRIPTION:
URL:https://www.pollinateimpact.org/event/sg-board-meeting/2027-04-20/
CATEGORIES:Board Meeting
ATTACH;FMTTYPE=image/png:https://www.pollinateimpact.org/wp-content/uploads/2026/03/Recurring.png
LOCATION:
END:VEVENT
BEGIN:VEVENT
DTSTART;TZID=UTC:20270518T150000
DTEND;TZID=UTC:20270518T163000
DTSTAMP:20260422T054812
CREATED:20260317T180918Z
LAST-MODIFIED:20260318T172833Z
UID:10000030-1810652400-1810657800@www.pollinateimpact.org
SUMMARY:Pollinate Impact SG/Board Monthly Meeting
DESCRIPTION:
URL:https://www.pollinateimpact.org/event/sg-board-meeting/2027-05-18/
CATEGORIES:Board Meeting
ATTACH;FMTTYPE=image/png:https://www.pollinateimpact.org/wp-content/uploads/2026/03/Recurring.png
LOCATION:
END:VEVENT
BEGIN:VEVENT
DTSTART;TZID=UTC:20270615T150000
DTEND;TZID=UTC:20270615T163000
DTSTAMP:20260422T054812
CREATED:20260317T180918Z
LAST-MODIFIED:20260318T172833Z
UID:10000031-1813071600-1813077000@www.pollinateimpact.org
SUMMARY:Pollinate Impact SG/Board Monthly Meeting
DESCRIPTION:
URL:https://www.pollinateimpact.org/event/sg-board-meeting/2027-06-15/
CATEGORIES:Board Meeting
ATTACH;FMTTYPE=image/png:https://www.pollinateimpact.org/wp-content/uploads/2026/03/Recurring.png
LOCATION:
END:VEVENT
BEGIN:VEVENT
DTSTART;TZID=UTC:20270720T150000
DTEND;TZID=UTC:20270720T163000
DTSTAMP:20260422T054812
CREATED:20260317T180918Z
LAST-MODIFIED:20260318T172833Z
UID:10000032-1816095600-1816101000@www.pollinateimpact.org
SUMMARY:Pollinate Impact SG/Board Monthly Meeting
DESCRIPTION:
URL:https://www.pollinateimpact.org/event/sg-board-meeting/2027-07-20/
CATEGORIES:Board Meeting
ATTACH;FMTTYPE=image/png:https://www.pollinateimpact.org/wp-content/uploads/2026/03/Recurring.png
LOCATION:
END:VEVENT
BEGIN:VEVENT
DTSTART;TZID=UTC:20270817T150000
DTEND;TZID=UTC:20270817T163000
DTSTAMP:20260422T054812
CREATED:20260317T180918Z
LAST-MODIFIED:20260318T172833Z
UID:10000033-1818514800-1818520200@www.pollinateimpact.org
SUMMARY:Pollinate Impact SG/Board Monthly Meeting
DESCRIPTION:
URL:https://www.pollinateimpact.org/event/sg-board-meeting/2027-08-17/
CATEGORIES:Board Meeting
ATTACH;FMTTYPE=image/png:https://www.pollinateimpact.org/wp-content/uploads/2026/03/Recurring.png
LOCATION:
END:VEVENT
BEGIN:VEVENT
DTSTART;TZID=UTC:20270921T150000
DTEND;TZID=UTC:20270921T163000
DTSTAMP:20260422T054812
CREATED:20260317T180918Z
LAST-MODIFIED:20260318T172833Z
UID:10000034-1821538800-1821544200@www.pollinateimpact.org
SUMMARY:Pollinate Impact SG/Board Monthly Meeting
DESCRIPTION:
URL:https://www.pollinateimpact.org/event/sg-board-meeting/2027-09-21/
CATEGORIES:Board Meeting
ATTACH;FMTTYPE=image/png:https://www.pollinateimpact.org/wp-content/uploads/2026/03/Recurring.png
LOCATION:
END:VEVENT
BEGIN:VEVENT
DTSTART;TZID=UTC:20271019T150000
DTEND;TZID=UTC:20271019T163000
DTSTAMP:20260422T054812
CREATED:20260317T180918Z
LAST-MODIFIED:20260318T172833Z
UID:10000035-1823958000-1823963400@www.pollinateimpact.org
SUMMARY:Pollinate Impact SG/Board Monthly Meeting
DESCRIPTION:
URL:https://www.pollinateimpact.org/event/sg-board-meeting/2027-10-19/
CATEGORIES:Board Meeting
ATTACH;FMTTYPE=image/png:https://www.pollinateimpact.org/wp-content/uploads/2026/03/Recurring.png
LOCATION:
END:VEVENT
BEGIN:VEVENT
DTSTART;TZID=UTC:20271116T150000
DTEND;TZID=UTC:20271116T163000
DTSTAMP:20260422T054812
CREATED:20260317T180918Z
LAST-MODIFIED:20260318T172833Z
UID:10000036-1826377200-1826382600@www.pollinateimpact.org
SUMMARY:Pollinate Impact SG/Board Monthly Meeting
DESCRIPTION:
URL:https://www.pollinateimpact.org/event/sg-board-meeting/2027-11-16/
CATEGORIES:Board Meeting
ATTACH;FMTTYPE=image/png:https://www.pollinateimpact.org/wp-content/uploads/2026/03/Recurring.png
LOCATION:
END:VEVENT
BEGIN:VEVENT
DTSTART;TZID=UTC:20271221T150000
DTEND;TZID=UTC:20271221T163000
DTSTAMP:20260422T054812
CREATED:20260317T180918Z
LAST-MODIFIED:20260318T172833Z
UID:10000037-1829401200-1829406600@www.pollinateimpact.org
SUMMARY:Pollinate Impact SG/Board Monthly Meeting
DESCRIPTION:
URL:https://www.pollinateimpact.org/event/sg-board-meeting/2027-12-21/
CATEGORIES:Board Meeting
ATTACH;FMTTYPE=image/png:https://www.pollinateimpact.org/wp-content/uploads/2026/03/Recurring.png
LOCATION:
END:VEVENT
BEGIN:VEVENT
DTSTART;TZID=UTC:20280118T150000
DTEND;TZID=UTC:20280118T163000
DTSTAMP:20260422T054812
CREATED:20260317T180918Z
LAST-MODIFIED:20260318T172833Z
UID:10000038-1831820400-1831825800@www.pollinateimpact.org
SUMMARY:Pollinate Impact SG/Board Monthly Meeting
DESCRIPTION:
URL:https://www.pollinateimpact.org/event/sg-board-meeting/2028-01-18/
CATEGORIES:Board Meeting
ATTACH;FMTTYPE=image/png:https://www.pollinateimpact.org/wp-content/uploads/2026/03/Recurring.png
LOCATION:
END:VEVENT
BEGIN:VEVENT
DTSTART;TZID=UTC:20280215T150000
DTEND;TZID=UTC:20280215T163000
DTSTAMP:20260422T054812
CREATED:20260317T180918Z
LAST-MODIFIED:20260318T172833Z
UID:10000039-1834239600-1834245000@www.pollinateimpact.org
SUMMARY:Pollinate Impact SG/Board Monthly Meeting
DESCRIPTION:
URL:https://www.pollinateimpact.org/event/sg-board-meeting/2028-02-15/
CATEGORIES:Board Meeting
ATTACH;FMTTYPE=image/png:https://www.pollinateimpact.org/wp-content/uploads/2026/03/Recurring.png
LOCATION:
END:VEVENT
BEGIN:VEVENT
DTSTART;TZID=UTC:20280321T150000
DTEND;TZID=UTC:20280321T163000
DTSTAMP:20260422T054812
CREATED:20260317T180918Z
LAST-MODIFIED:20260318T172833Z
UID:10000040-1837263600-1837269000@www.pollinateimpact.org
SUMMARY:Pollinate Impact SG/Board Monthly Meeting
DESCRIPTION:
URL:https://www.pollinateimpact.org/event/sg-board-meeting/2028-03-21/
CATEGORIES:Board Meeting
ATTACH;FMTTYPE=image/png:https://www.pollinateimpact.org/wp-content/uploads/2026/03/Recurring.png
LOCATION:
END:VEVENT
BEGIN:VEVENT
DTSTART;TZID=UTC:20280418T150000
DTEND;TZID=UTC:20280418T163000
DTSTAMP:20260422T054812
CREATED:20260317T180918Z
LAST-MODIFIED:20260318T172833Z
UID:10000041-1839682800-1839688200@www.pollinateimpact.org
SUMMARY:Pollinate Impact SG/Board Monthly Meeting
DESCRIPTION:
URL:https://www.pollinateimpact.org/event/sg-board-meeting/2028-04-18/
CATEGORIES:Board Meeting
ATTACH;FMTTYPE=image/png:https://www.pollinateimpact.org/wp-content/uploads/2026/03/Recurring.png
LOCATION:
END:VEVENT
BEGIN:VEVENT
DTSTART;TZID=UTC:20280516T150000
DTEND;TZID=UTC:20280516T163000
DTSTAMP:20260422T054812
CREATED:20260317T180918Z
LAST-MODIFIED:20260318T172833Z
UID:10000042-1842102000-1842107400@www.pollinateimpact.org
SUMMARY:Pollinate Impact SG/Board Monthly Meeting
DESCRIPTION:
URL:https://www.pollinateimpact.org/event/sg-board-meeting/2028-05-16/
CATEGORIES:Board Meeting
ATTACH;FMTTYPE=image/png:https://www.pollinateimpact.org/wp-content/uploads/2026/03/Recurring.png
LOCATION:
END:VEVENT
BEGIN:VEVENT
DTSTART;TZID=UTC:20280620T150000
DTEND;TZID=UTC:20280620T163000
DTSTAMP:20260422T054812
CREATED:20260317T180918Z
LAST-MODIFIED:20260318T172833Z
UID:10000043-1845126000-1845131400@www.pollinateimpact.org
SUMMARY:Pollinate Impact SG/Board Monthly Meeting
DESCRIPTION:
URL:https://www.pollinateimpact.org/event/sg-board-meeting/2028-06-20/
CATEGORIES:Board Meeting
ATTACH;FMTTYPE=image/png:https://www.pollinateimpact.org/wp-content/uploads/2026/03/Recurring.png
LOCATION:
END:VEVENT
BEGIN:VEVENT
DTSTART;TZID=UTC:20280718T150000
DTEND;TZID=UTC:20280718T163000
DTSTAMP:20260422T054812
CREATED:20260317T180918Z
LAST-MODIFIED:20260318T172833Z
UID:10000044-1847545200-1847550600@www.pollinateimpact.org
SUMMARY:Pollinate Impact SG/Board Monthly Meeting
DESCRIPTION:
URL:https://www.pollinateimpact.org/event/sg-board-meeting/2028-07-18/
CATEGORIES:Board Meeting
ATTACH;FMTTYPE=image/png:https://www.pollinateimpact.org/wp-content/uploads/2026/03/Recurring.png
LOCATION:
END:VEVENT
END:VCALENDAR