BEGIN:VCALENDAR
VERSION:2.0
PRODID:-//Pollinate Impact - ECPv6.15.17.1//NONSGML v1.0//EN
CALSCALE:GREGORIAN
METHOD:PUBLISH
X-WR-CALNAME:Pollinate Impact
X-ORIGINAL-URL:https://www.pollinateimpact.org
X-WR-CALDESC:Events for Pollinate Impact
REFRESH-INTERVAL;VALUE=DURATION:PT1H
X-Robots-Tag:noindex
X-PUBLISHED-TTL:PT1H
BEGIN:VTIMEZONE
TZID:UTC
BEGIN:STANDARD
TZOFFSETFROM:+0000
TZOFFSETTO:+0000
TZNAME:UTC
DTSTART:20250101T000000
END:STANDARD
END:VTIMEZONE
BEGIN:VEVENT
DTSTART;TZID=UTC:20260204T083000
DTEND;TZID=UTC:20260204T093000
DTSTAMP:20260422T024015
CREATED:20260128T020553Z
LAST-MODIFIED:20260129T062256Z
UID:10000008-1770193800-1770197400@www.pollinateimpact.org
SUMMARY:Member Orientation 2026
DESCRIPTION:Member Orientation is designed to help you find your footing within the Pollinate Impact network. It’s a shared space for members to connect\, understand how the network functions\, and explore the tools\, opportunities\, and convenings available to support your work. The session offers practical guidance on how to engage meaningfully and make the most of being part of Pollinate. Our Community Choreographer\, Ruod Ariete\, and Membership Mobilizer\, Sophia Morita\, will guide you through all that’s available to you as a member of our Network\, including fundraising resources\, tools\, and upcoming opportunities. During the session\, you’ll explore: \n\nOur Tool Library – Curated resources to help impact incubators run smarter\, scale bigger\, and better support their entrepreneurs.\nFundraising Opportunities – Including our curated grants and opportunities emailer\, plus Fundraising Office Hours.\nConvenings – Updates on learning spaces and member-only sessions with funders and ecosystem leaders.\n\nYou’ll also get a snapshot of what’s unfolding across the Network\, including: \n\nUpcoming Collaborative Action Teams (CATs)\nResearch Projects & Communities of Practice \n\nThe session also creates space to connect with fellow members navigating similar challenges and opportunities across the Global South. Join us to get oriented\, understand what’s available\, and begin engaging with the network in ways that matter most to your work.
URL:https://www.pollinateimpact.org/event/member-orientation-2026/
LOCATION:Zoom (link will be emailed to participants)
CATEGORIES:Member Orientation
ATTACH;FMTTYPE=image/png:https://www.pollinateimpact.org/wp-content/uploads/2026/01/Feb-member-orientation.png
END:VEVENT
BEGIN:VEVENT
DTSTART;TZID=UTC:20260127T090000
DTEND;TZID=UTC:20260127T100000
DTSTAMP:20260422T024015
CREATED:20260101T100136Z
LAST-MODIFIED:20260123T163955Z
UID:10000001-1769504400-1769508000@www.pollinateimpact.org
SUMMARY:Coaching SMEs From Invisible to Investable with ONOW’s DayTwo
DESCRIPTION:This is a Pollinate Impact Members-Only webinar. \nThe Pollinators’ Toolkit is a members-only event series that shares practical tools\, tested frameworks\, and real-world lessons to strengthen our support for impact incubators. \nInformal record-keeping is a significant barrier to entrepreneurs’ access to finance. Most small businesses worldwide use receipts\, notebooks\, and memory\, making them invisible to lenders and hard for impact incubators to assess or support. \nIn this hands-on Pollinator’s Toolkit workshop\, Pollinate Impact member ONOW will showcase how its fintech platform turns everyday SME financial activity captured informally in photos\, chats\, and voice notes into clean\, dated financial records and lender-ready signals. Already used by more than 600 businesses\, DayTwo generates weekly income statements and daily cash flow visibility. The tool helps incubators see real financial health\, coach with more precision\, and connect entrepreneurs to capital with less friction. \nIf you want to move from\n\n\nGuessing at your clients’ financial health based on incomplete or outdated information \n\n\nStruggling to connect entrepreneurs to lenders due to a lack of credible documentation \n\n\nCoaching without visibility into real-time cash flow or profitability \n\n\nBeing unable to demonstrate measurable financial outcomes to your funders and stakeholders\, this session is for you. \n\n\n  \nWhat to expect:\n\n\nIntroduction to behaviour-based financial tracking: See how DayTwo converts messy\, informal records into structured data and credit signals that lenders recognise. \n\n\nLearn how daily habits become investability signals: A live exercise contrasting paper tracking with digital records\, showing how simple behavioural nudges translate into financial credibility. \n\n\nActionable coaching frameworks: Walk away with practical tools for interpreting profit and cash flow\, plus a hands-on demo showing the platform in action. \n\n\nSpeakers:\n\nMatthew Wallace\, Co-founder\, ONOW Myanmar\, Co-founder and CEO\, ONOW Ascent Inc\nNathan Temeyer\, Co-founder\, ONOW Ascent Inc\n\n———————————————————— \nThe Pollinators’ Toolkit Series\nThe Pollinators’ Toolkit series is designed to equip impact enablers with practical\, field-tested tools and resources to strengthen organisational capacity and improve how you support entrepreneurs. We know there’s no one-size-fits-all approach to enabling impact\, so this series showcases adaptable models\, frameworks\, and practices that you can make your own. \nWhether you’re looking for financial sustainability models\, mentoring strategies\, or impact measurement frameworks\, the Pollinator’s Toolkit is here to help you strengthen your operations while staying true to your work.
URL:https://www.pollinateimpact.org/event/coaching-smes/
LOCATION:Zoom (link will be emailed to participants)
CATEGORIES:Toolkit Showcase
ATTACH;FMTTYPE=image/jpeg:https://www.pollinateimpact.org/wp-content/uploads/2026/01/event-the-pollinators-toolkit-v2.jpg
END:VEVENT
BEGIN:VEVENT
DTSTART;TZID=UTC:20260122T090000
DTEND;TZID=UTC:20260122T100000
DTSTAMP:20260422T024015
CREATED:20260118T041125Z
LAST-MODIFIED:20260119T135828Z
UID:10000005-1769072400-1769076000@www.pollinateimpact.org
SUMMARY:Member Kickoff & Connections 🎉
DESCRIPTION:Members – Come join us as we start the year together!\nAs we step into a new year\, we’re creating space to do something simple and important. \nPollinate Pulse: Kickoff & Connections is our start-of-the-year member gathering: a relaxed\, energising moment to reconnect across the network\, meet new faces\, and get a shared sense of what’s taking shape in the year ahead. \nThis is not a formal presentation or a webinar. It’s a warm\, interactive space designed to bring members together — to reflect\, exchange\, and begin the year grounded in community and collective direction. \nWhy this gathering matters\nThe work of impact incubation doesn’t happen in isolation. It’s shaped by shared questions\, emerging priorities\, and the people doing the work every day. \nAt Pollinate Pulse\, we’ll: \n\nCreate space for members to share what they’re excited about\, curious about\, or grappling with as the year begins\nSurface themes and signals emerging across the network\nOffer a clear\, high-level snapshot of Pollinate Impact’s focus for the year ahead\, grounded in what members are already surfacing\nStrengthen connections across roles\, organisations\, and geographies\n\nYou’ll leave feeling more connected\, energised\, and oriented to what’s coming — and how you might want to engage this year. \nWho this space is for\nThis gathering is for everyone across Pollinate Impact member organisations: \n\nNew team members looking to get oriented\nPractitioners deep in the day-to-day work\nLeaders and CXOs wanting a clear view of what’s ahead\n\nIf you’re part of a Pollinate Impact member organisation and want to start the year connected to the Network\, this space is for you. \nWhat to expect\n\n🌟Light\, interactive prompts to spark conversation and reflection\n🖧 Time to reconnect and meet others across the network\n🗫A short\, accessible strategy snapshot — conversational\, not formal\n🤗A welcoming\, low-pressure environment where your voice matters\n\nCome as you are. Join for the full hour or as your schedule allows. \nStart the year with the Network!\nWe’d love to see you there.
URL:https://www.pollinateimpact.org/event/kickoff-connections-%f0%9f%8e%89/
CATEGORIES:Pollinate Pulse
ATTACH;FMTTYPE=image/png:https://www.pollinateimpact.org/wp-content/uploads/2026/01/pollinate-pulse-kickoff-connections.png
LOCATION:
END:VEVENT
END:VCALENDAR