BEGIN:VCALENDAR
VERSION:2.0
PRODID:-//Pollinate Impact - ECPv6.15.17.1//NONSGML v1.0//EN
CALSCALE:GREGORIAN
METHOD:PUBLISH
X-WR-CALNAME:Pollinate Impact
X-ORIGINAL-URL:https://www.pollinateimpact.org
X-WR-CALDESC:Events for Pollinate Impact
REFRESH-INTERVAL;VALUE=DURATION:PT1H
X-Robots-Tag:noindex
X-PUBLISHED-TTL:PT1H
BEGIN:VTIMEZONE
TZID:UTC
BEGIN:STANDARD
TZOFFSETFROM:+0000
TZOFFSETTO:+0000
TZNAME:UTC
DTSTART:20250101T000000
END:STANDARD
END:VTIMEZONE
BEGIN:VEVENT
DTSTART;TZID=UTC:20260603T083000
DTEND;TZID=UTC:20260603T093000
DTSTAMP:20260422T053907
CREATED:20260407T044806Z
LAST-MODIFIED:20260407T044806Z
UID:10000082-1780475400-1780479000@www.pollinateimpact.org
SUMMARY:Member Orientation 2026
DESCRIPTION:Member Orientation is designed to help you find your footing within the Pollinate Impact network. It’s a shared space for members to connect\, understand how the network functions\, and explore the tools\, opportunities\, and convenings available to support your work. The session offers practical guidance on how to engage meaningfully and make the most of being part of Pollinate. Our Community Choreographer\, Ruod Ariete\, and Membership Mobilizer\, Sophia Morita\, will guide you through all that’s available to you as a member of our Network\, including fundraising resources\, tools\, and upcoming opportunities. During the session\, you’ll explore: \n\nOur Tool Library – Curated resources to help impact incubators run smarter\, scale bigger\, and better support their entrepreneurs.\nFundraising Opportunities – Including our curated grants and opportunities emailer\, plus Fundraising Office Hours.\nConvenings – Updates on learning spaces and member-only sessions with funders and ecosystem leaders.\n\nThe session also creates space to connect with fellow members navigating similar challenges and opportunities across the Global South. Join us to get oriented\, understand what’s available\, and begin engaging with the network in ways that matter most to your work.
URL:https://www.pollinateimpact.org/event/member-orientation-2026-jun/
LOCATION:Zoom (link will be emailed to participants)
CATEGORIES:Member Orientation
ATTACH;FMTTYPE=image/png:https://www.pollinateimpact.org/wp-content/uploads/2026/01/Feb-member-orientation.png
END:VEVENT
BEGIN:VEVENT
DTSTART;TZID=UTC:20260616T150000
DTEND;TZID=UTC:20260616T163000
DTSTAMP:20260422T053907
CREATED:20260317T180918Z
LAST-MODIFIED:20260318T172833Z
UID:10000019-1781622000-1781627400@www.pollinateimpact.org
SUMMARY:Pollinate Impact SG/Board Monthly Meeting
DESCRIPTION:
URL:https://www.pollinateimpact.org/event/sg-board-meeting/2026-06-16/
CATEGORIES:Board Meeting
ATTACH;FMTTYPE=image/png:https://www.pollinateimpact.org/wp-content/uploads/2026/03/Recurring.png
LOCATION:
END:VEVENT
END:VCALENDAR